Workbook

Sheet CAMBIOS
A2: CiP 1.12 CAMBIOS RESPECTO A CiP 1.11
A4: Todos los anuncios
C5: Identificador de Versión UBL - Valor "CODICE 2.05"
C6: Identificador de Perfil - Valor "CiP 1.12"
C7: La descripción de condiciones especiales de ejecución tienen longitud 400
C8: Se hace obligatorio indicar los datos de financiación europea (si hay financiación, fuente de financiación, localizador)
C9: Se hace obligatorio indicar el número previsto de operadores en los establecimientos de acuerdo marco
A11: Anuncio previo, de licitación, Pliegos, Adjudicación, Formalización, Renuncia/Desistimiento, Desierto
C12: Se añade Regulación armonizada/supera el umbral comunitario
C13: Se añade Marco legal nacional
C14: Se hace obligatorio indicar diretiva de aplicación excepto en contratos menores
C15: Se hace obligatorio indicar el Valor Estimado del Contrato excepto en contratos menores
C16: Se hace obligatorio indicar el subtipo de criterio de adjudicación
C17: Se hace obligatorio indicar el tipo de criterio de adjudicación
C18: Subtipo de criterio de adjudicación - cambian las listas de códigos
C19: Se debe indicar el tipo y descripción de las condiciones especiales de ejecución
C20: Se hace obligatorio indicar como se debe ofertar a los lotes
C21: Se hace obligatorio indicar el sistema de contratación
A24: Anuncio de formalización
C25: Se añade el número de recursos que se han presentado sobre la licitación en su conjunto
A28: Anuncio de Adjudicación y Formalización
C29: Se hace obligatorio indicar el número de ofertas recibidas de PYMES excepto en contratos menores
C30: Se hace obligatorio indicar si el contrato ha sido adjudicado a una PYME excepto en contratos menores

Sheet CiP1.12
C4: Perfil CiP 1.12
C6: Recoge las validaciones, listas de códigos y listas de identificadores sobre los anuncios que se pueden publicar en el perfil del contratante en la Plataforma de Contratación del Sector Público No incluye las validaciones al enviar los anuncios a Diarios Oficiales ni de edición del EVL por medio del servicio SetContractFolder.
C11: CiP 1.10 v.1 | D11: 42283 | E11: Nuevas validaciones y códigos para la publicación de contratos menores, y modificaciones de contratos
C12: CiP 1.10 v.2 | D12: 42445 | E12: Cambios en validaciones, lugar de ejecución es recomendado, se elimna la lista de clasificaciones de empresas obsoleta
C13: CiP 1.10 v.3 | D13: 42493 | E13: Nuevas validaciones
C14: CiP 1.11 v.1 | D14: 42698 | E14: Nuevas validaciones y elementos de información derivados de la adaptación de la Plataforma a los nuevos formularios normalizados del DOUE según directivas 2014/24/UE; 2014/23/UE; 2014/25/UE y 2009/81/CE
C15: CiP 1.11 v.2 | D15: 42860 | E15: En contratos menores y negociados sin publicidad no se puede indicar la fecha de presentación de solicitudes de participación
C16: CiP 1.11 v.3 | D16: 42912 | E16: Es obligatorio indicar el tipo de procedimiento en los documentos ContractAwardNotice Corregida errata en lugar de ejecución (obligatorio en todos los anuncios) Tipo de tramitación es obligatorio si es el primer anuncio y recomendado en otro caso en los docuemntos ContactAwardNotice Se actualizan GCs
C17: CiP 1.11 V.4 | D17: 43368 | E17: Se incluye la descripción de la justificación del proceso para el ATPV en anuncio de adjudicación, formalización, renuncia, desistimiento y desierto. Se corrige errata en nombre de componentes CODICE en importes base con y sin impuestos Se incluyen los tipos de procedimiento Simplificado y Licitación con negociación
C18: CiP 1.11 V.5 | D18: 43438 | E18: Se incluye la información adicional de acuerdos marco (para licitaciones establecimiento de acuerdo marco) Se corrige elemento CODICE en dirección del adjudicatario en anuncios de adjudicación y formalización
C19: CiP 1.11 V.6 | D19: 43607 | E19: Se corrige errata: el Plazo de formalización es opcional en contratos menores
C20: CiP 1.11 V.7 | D20: 43844 | E20: Se añade el campo de los anuncios Compra pública Innovadora Se añade gc en subtipo de contrato para los tipo de contratos patrimoniales Se actualiza la información sobre cardinalidad y obligatoriedad de los lotes CPV principal en función de tipo de contrato Objeto de contrato 400 como máximo si se envia a DOUE
C21: CiP 1.12 V.1 | D21: 44075 | E21: Se añaden nuevos campos: Regulación armonizada/supera el umbral comunitario, Marco legal nacional, número de recursos presentados, como se debe ofertar a los lotes Se hacen obligatorios: directiva de aplicación, valor estimado del contrato, número de ofertas recibidas de PYMES, si adjudicado es una PYME, subtipos de criterios Se cambiar referencias a GCs Se definen datos obligatorios de criterios de adjudicación, condiciones de ejecución
C22: CiP 1.12 V.2 | D22: 44183 | E22: Se indica en CAMBIOS que la descripción de condiciones especiales de ejecución tienen longitud 400
C23: CiP 1.12 V.3 | D23: 44503 | E23: Se actualizan los campos de financiación europea Se indica la obligatoriedad de informar el número esperado de operadores en los acuerdos marco
C26: Obligatoriedad de elementos de información
C27: Anuncio Previo
C28: Anunco de Licitación
C29: Pliegos
C30: Anuncio de Adjudicación
C31: Anuncio de Formalización
C32: Anuncio de Desierto
C33: Anuncio de Renuncia o Desistimiento
C34: Anuncio de Modificación de Contrato
C36: Lista de códigos
C37: Listas de códigos (otro fichero)
C38: Listas de identificadores
C39: Listas de identificadores (otro fichero)

Sheet Anuncio Previo
A1: DATO | F1: Cardinalidad | G1: Abierto Restringido Negociado con Publicidad Licitación con Negociación Negociado Sin Publicidad Dialógo Competitivo Normas Internas Basado en Acuerdo Marco Simplificado | H1: Mapeo CODICE | I1: Tipo de dato
A2: Identificador de Versión UBL | F2: 1 | G2: Obligatorio | H2: cbc:UBLVersionID | I2: xsd:string. Valor "CODICE 2.05"
A3: Identificador de Personalización | F3: 1 | G3: Obligatorio | H3: cbc:CustomizationID | I3: xsd:string. Valor "2.1"
A4: Identificador de Perfil | F4: 1 | G4: Obligatorio | H4: cbc:ProfileID | I4: xsd:string. Valor "CiP 1.12"
A5: Identificador de copia | F5: 0..1 | G5: Opcional | H5: cbc:CopyIndicator | I5: xsd:boolean
A6: Indicador de anuncio | F6: 1 | G6: Obligatorio | H6: cbc:ID | I6: xsd:String(200)
A7: Identificador Universal Único | F7: 0..1 | G7: Opcional | H7: cbc:UUID | I7: xsd:String(100)
A8: Número de Expediente | F8: 1 | G8: Obligatorio | H8: cbc:ContractFolderID | I8: xsd:string(50)
A9: Fecha de Emisión | F9: 1 | G9: Obligatorio | H9: cbc:IssueDate | I9: xsd:date
A10: Hora de Emisión | F10: 1 | G10: Obligatorio | H10: cbc:IssueTime | I10: xsd:time
A11: Fecha Prevista de Licitación | F11: 0..1 | G11: Opcional | H11: cbc:PlannedDate | I11: xsd:date
A12: Proyecto de compra | F12: 1 | G12: Obligatorio | H12: cac:ProcurementProject | I12: xsd:complexType
B13: Objeto del Contrato | F13: 1 | G13: Obligatorio | H13: cac:ProcurementProject/cbc:Name | I13: xsd:string(1700), 400 si se envia a DOUE
B14: valor estimado del contrato | F14: 1 | G14: Obligatorio | H14: cac:ProcurementProject/cac:BudgetAmount/cbc:EstimatedOverallContractAmount | I14: xsd:decimal. Máximo 10 enteros y 2 decimales
B15: Presupuesto base con impuestos | F15: 1 | G15: Obligatorio | H15: cac:ProcurementProject/cac:BudgetAmount/cbc:TotalAmount | I15: xsd:decimal. Máximo 10 enteros y 2 decimales
B16: Presupuesto base sin impuestos | F16: 1 | G16: Obligatorio | H16: cac:ProcurementProject/cac:BudgetAmount/cbc:TaxExclusiveAmount | I16: xsd:decimal. Máximo 10 enteros y 2 decimales
B17: Clasificación CPV | F17: 1..n | G17: Obligatorio | H17: cac:ProcurementProject/cac:RequiredCommodityClassification/cbc:ItemClassificationCode | I17: Valor en codelist CPV CPV principal en funcion del tipo de contrato: - tipo de contrato “Suministros” códigos CPV que comienzan con 0 hasta los que empiezan por 44 más los que comienzan con 48. - tipo de contrato “Obras” se corresponde con los CPV que empiezan por 45. - tipo de contrato “Servicios” se corresponde con los CPV que empiezan por 49 hasta los que comienzan con 98.
B18: Tipo de Contrato | F18: 1 | G18: Obligatorio | H18: cac:ProcurementProject/cbc:TypeCode | I18: Valor en codelist ContractCode
B19: Subtipo de contrato | F19: 0..1 | G19: Obligatorio dependiendo del tipo de contrato | H19: cac:ProcurementProject/cbc:SubTypeCode | I19: Valor en codelist GoodsContractCode; ServiceContractCode; WorksContractCode; PublicPrivateCollaborationContractTypeCode PatrimonialContractCode según el tipo de contrato
B20: Plazo de ejecución | F20: 0..1 | G20: Opcional | H20: cac:ProcurementProject/cac:PlannedPeriod | I20: xsd:complexType
C21: Fecha de Inicio | F21: 0..1 | G21: Fecha de Inicio y (Fecha final o Duración) | H21: cac:ProcurementProject/cac:PlannedPeriod/cbc:StartDate | I21: xsd:date
C22: Fecha Final | F22: 0..1 | G22: Fecha de Inicio y Fecha final | H22: cac:ProcurementProject/cac:PlannedPeriod/cbc:EndDate | I22: xsd:date
C23: Duración | F23: 0..1 | G23: Fecha de Inicio y Duración | H23: cac:ProcurementProject/cac:PlannedPeriod/cbc:DurationMeasure | I23: xsd:decimal. Máximo 17 dígitos enteros. No se aceptan decimales
B24: Lugar de ejecución | F24: 0..1 | G24: Obligatorio | H24: cac:ProcurementProject/cac:RealizedLocation | I24: xsd:complexType
C25: Código de Subentidad Nacional | F25: 0..1 | G25: Obligatorio si es España | H25: cac:ProcurementProject/cac:RealizedLocation/cbc:CountrySubentityCode | I25: Valor en codelist NUTS
C26: Subentidad Territorial | F26: 0..1 | G26: Obligatorio si es España | H26: cac:ProcurementProject/cac:RealizedLocation/cbc:CountrySubentity | I26: xsd:String. Máximo 50 caracteres - Texto de Código de Subentidad Nacional en gc NUTs
C27: País | F27: 0..1 | G27: Obligatorio si no es España y recomendado si lo es. | H27: cac:ProcurementProject/cac:RealizedLocation/cac:Address/cac:Country/cbc:IdentificationCode | I27: Valor en codelist CountryIdentificationCode
C28: Calle | F28: 0..1 | G28: Opcional | H28: cac:ProcurementProject/cac:RealizedLocation/cac:Address/cbc:AddressLine | I28: xsd:string. Máximo 220 caracteres
C29: Código Postal | F29: 0..1 | G29: Opcional | H29: cac:ProcurementProject/cac:RealizedLocation/cac:Address/cbc:PostalZone | I29: xsd:string. Máximo 5 caracteres numéricos si el país es España, en otro caso 32 máximo caracteres.
C30: Población | F30: 0..1 | G30: Opcional | H30: cac:ProcurementProject/cac:RealizedLocation/cac:Address/cbc:CityName | I30: xsd:string. Máximo 90 caracteres
B31: Extensión de Contrato | F31: 0..1 | H31: cac:ProcurementProject/cac:ContractExtension | I31: xsd:complexType
C32: Opciones | F32: 0..1 | G32: Opcional | H32: cac:ProcurementProject/cac:ContractExtension/cbc:OptionsDescription | I32: xsd:string. Máximo 256 caracteres
C33: Periodo de validez de las opciones | F33: 0..1 | G33: Opcional | H33: cac:ProcurementProject/cac:ContractExtension/cac:OptionValidityPeriod/cbc:Description | I33: xsd:string. Máximo 256 caracteres
A34: Lotes | F34: 0..n | G34: Obligatorio si hay lotes | H34: cac:ProcurementProjectLot | I34: xsd:complexType
B35: Número de lote | F35: 1 | G35: Obligatorio | H35: cac:ProcurementProjectLot/cbc:ID | I35: Máximo 3 caracteres numéricos
B36: Objeto | F36: 1 | G36: Obligatorio | H36: cac:ProcurementProjectLot/cac:ProcurementProject/cbc:Name | I36: xsd:string. Máximo 1700 caracteres
B37: Importe sin impuestos | F37: 1 | G37: Obligatorio | H37: cac:ProcurementProjectLot/cac:ProcurementProject/cac:BudgetAmount/cbc:TotalAmount | I37: xsd:decimal. Máximo 10 enteros y 2 decimales
B38: Importe con impuestos | F38: 1 | G38: Obligatorio | H38: cac:ProcurementProjectLot/cac:ProcurementProject/cac:BudgetAmount/cbc:TaxExclusiveAmount | I38: xsd:decimal. Máximo 10 enteros y 2 decimales
B39: Clasificación CPV | F39: 1 | G39: Obligatorio | H39: cac:ProcurementProjectLot/cac:ProcurementProject/cac:RequiredCommodityClassification/cbc:ItemClassificationCode | I39: Valor en codelist CPV
B40: Lugar de ejecución | F40: 0..1 | G40: Obligatorio | H40: cac:ProcurementProjectLot/cac:ProcurementProject/cac:RealizedLocation | I40: xsd:complexType
...

Sheet Anuncio Licitación
A1: DATO | F1: Cardinalidad | G1: Abierto | H1: Abierto Simplificado | I1: Restringido | J1: Negociado con publicidad Licitación con negociación | K1: Negociado Sin Publicidad | L1: Contrato Menor | M1: Diálogo Competitivo | N1: Normas Internas | O1: Basado en Acuerdo Marco | P1: Mapeo CODICE | Q1: Tipo de dato
A2: Identificador de Versión UBL | F2: 1 | G2: Obligatorio | H2: Obligatorio | I2: Obligatorio | J2: Obligatorio | K2: Obligatorio | L2: Obligatorio | M2: Obligatorio | N2: Obligatorio | O2: Obligatorio | P2: cbc:UBLVersionID | Q2: =VLOOKUP(P2,'Anuncio Previo'!H:I,2,FALSE) -> xsd:string. Valor "CODICE 2.05"
A3: Identificador de Personalización | F3: 1 | G3: Obligatorio | H3: Obligatorio | I3: Obligatorio | J3: Obligatorio | K3: Obligatorio | L3: Obligatorio | M3: Obligatorio | N3: Obligatorio | O3: Obligatorio | P3: cbc:CustomizationID | Q3: =VLOOKUP(P3,'Anuncio Previo'!H:I,2,FALSE) -> xsd:string. Valor "2.1"
A4: Identificador de Perfil | F4: 1 | G4: Obligatorio | H4: Obligatorio | I4: Obligatorio | J4: Obligatorio | K4: Obligatorio | L4: Obligatorio | M4: Obligatorio | N4: Obligatorio | O4: Obligatorio | P4: cbc:ProfileID | Q4: =VLOOKUP(P4,'Anuncio Previo'!H:I,2,FALSE) -> xsd:string. Valor "CiP 1.12"
A5: Identificador de copia | F5: 0..1 | G5: Opcional | H5: Opcional | I5: Opcional | J5: Opcional | K5: Opcional | L5: Opcional | M5: Opcional | N5: Opcional | O5: Opcional | P5: cbc:CopyIndicator | Q5: =VLOOKUP(P5,'Anuncio Previo'!H:I,2,FALSE) -> xsd:boolean
A6: Indicador de anuncio | F6: 1 | G6: Obligatorio | H6: Obligatorio | I6: Obligatorio | J6: Obligatorio | K6: Obligatorio | L6: Obligatorio | M6: Obligatorio | N6: Obligatorio | O6: Obligatorio | P6: cbc:ID | Q6: =VLOOKUP(P6,'Anuncio Previo'!H:I,2,FALSE) -> xsd:String(200)
A7: Identificador Universal Único | F7: 0..1 | G7: Opcional | H7: Opcional | I7: Opcional | J7: Opcional | K7: Opcional | L7: Opcional | M7: Opcional | N7: Opcional | O7: Opcional | P7: cbc:UUID | Q7: =VLOOKUP(P7,'Anuncio Previo'!H:I,2,FALSE) -> xsd:String(100)
A8: Número de Expediente | F8: 1 | G8: Obligatorio | H8: Obligatorio | I8: Obligatorio | J8: Obligatorio | K8: Obligatorio | L8: Obligatorio | M8: Obligatorio | N8: Obligatorio | O8: Obligatorio | P8: cbc:ContractFolderID | Q8: =VLOOKUP(P8,'Anuncio Previo'!H:I,2,FALSE) -> xsd:string(50)
A9: Fecha de Emisión | F9: 1 | G9: Obligatorio | H9: Obligatorio | I9: Obligatorio | J9: Obligatorio | K9: Obligatorio | L9: Obligatorio | M9: Obligatorio | N9: Obligatorio | O9: Obligatorio | P9: cbc:IssueDate | Q9: =VLOOKUP(P9,'Anuncio Previo'!H:I,2,FALSE) -> xsd:date
A10: Hora de Emisión | F10: 1 | G10: Obligatorio | H10: Obligatorio | I10: Obligatorio | J10: Obligatorio | K10: Obligatorio | L10: Obligatorio | M10: Obligatorio | N10: Obligatorio | O10: Obligatorio | P10: cbc:IssueTime | Q10: =VLOOKUP(P10,'Anuncio Previo'!H:I,2,FALSE) -> xsd:time
A11: Proyecto de compra | F11: 1 | G11: Obligatorio | H11: Obligatorio | I11: Obligatorio | J11: Obligatorio | K11: Obligatorio | L11: Obligatorio | M11: Obligatorio | N11: Obligatorio | O11: Obligatorio | P11: cac:ProcurementProject | Q11: =VLOOKUP(P11,'Anuncio Previo'!H:I,2,FALSE) -> xsd:complexType
B12: Objeto del Contrato | F12: 1 | G12: Obligatorio | H12: Obligatorio | I12: Obligatorio | J12: Obligatorio | K12: Obligatorio | L12: Obligatorio | M12: Obligatorio | N12: Obligatorio | O12: Obligatorio | P12: cac:ProcurementProject/cbc:Name | Q12: =VLOOKUP(P12,'Anuncio Previo'!H:I,2,FALSE) -> xsd:string(1700), 400 si se envia a DOUE
B13: valor estimado del contrato | F13: 0..1 | G13: Obligatorio | H13: Obligatorio | I13: Obligatorio | J13: Obligatorio | K13: Obligatorio | L13: Opcional | M13: Obligatorio | N13: Obligatorio | O13: Obligatorio | P13: cac:ProcurementProject/cac:BudgetAmount/cbc:EstimatedOverallContractAmount | Q13: =VLOOKUP(P13,'Anuncio Previo'!H:I,2,FALSE) -> xsd:decimal. Máximo 10 enteros y 2 decimales
B14: Presupuesto base con impuestos | F14: 0..1 | G14: Obligatorio | H14: Obligatorio | I14: Obligatorio | J14: Obligatorio | K14: Obligatorio | L14: Obligatorio | M14: Obligatorio | N14: Obligatorio | O14: Obligatorio | P14: cac:ProcurementProject/cac:BudgetAmount/cbc:TotalAmount | Q14: =VLOOKUP(P14,'Anuncio Previo'!H:I,2,FALSE) -> xsd:decimal. Máximo 10 enteros y 2 decimales
B15: Presupuesto base sin impuestos | F15: 0..1 | G15: Obligatorio | H15: Obligatorio | I15: Obligatorio | J15: Obligatorio | K15: Obligatorio | L15: Obligatorio | M15: Obligatorio | N15: Obligatorio | O15: Obligatorio | P15: cac:ProcurementProject/cac:BudgetAmount/cbc:TaxExclusiveAmount | Q15: =VLOOKUP(P15,'Anuncio Previo'!H:I,2,FALSE) -> xsd:decimal. Máximo 10 enteros y 2 decimales
B16: Clasificación CPV | F16: 0..n | G16: Obligatorio | H16: Obligatorio | I16: Obligatorio | J16: Obligatorio | K16: Obligatorio | L16: Opcional | M16: Obligatorio | N16: Obligatorio | O16: Obligatorio | P16: cac:ProcurementProject/cac:RequiredCommodityClassification/cbc:ItemClassificationCode | Q16: =VLOOKUP(P16,'Anuncio Previo'!H:I,2,FALSE) -> Valor en codelist CPV CPV principal en funcion del tipo de contrato: - tipo de contrato “Suministros” códigos CPV que comienzan con 0 hasta los que empiezan por 44 más los que comienzan con 48. - tipo de contrato “Obras” se corresponde con los CPV que empiezan por 45. - tipo de contrato “Servicios” se corresponde con los CPV que empiezan por 49 hasta los que comienzan con 98.
B17: Tipo de Contrato | F17: 1 | G17: Obligatorio | H17: Obligatorio | I17: Obligatorio | J17: Obligatorio | K17: Obligatorio | L17: Obligatorio | M17: Obligatorio | N17: Obligatorio | O17: Obligatorio | P17: cac:ProcurementProject/cbc:TypeCode | Q17: =VLOOKUP(P17,'Anuncio Previo'!H:I,2,FALSE) -> Valor en codelist ContractCode
B18: Subtipo de contrato | F18: 0..1 | G18: Obligatorio dependiendo del tipo de contrato | H18: Obligatorio dependiendo del tipo de contrato | I18: Obligatorio dependiendo del tipo de contrato | J18: Obligatorio dependiendo del tipo de contrato | K18: Obligatorio dependiendo del tipo de contrato | L18: Obligatorio dependiendo del tipo de contrato | M18: Obligatorio dependiendo del tipo de contrato | N18: Obligatorio dependiendo del tipo de contrato | O18: Obligatorio dependiendo del tipo de contrato | P18: cac:ProcurementProject/cbc:SubTypeCode | Q18: =VLOOKUP(P18,'Anuncio Previo'!H:I,2,FALSE) -> Valor en codelist GoodsContractCode; ServiceContractCode; WorksContractCode; PublicPrivateCollaborationContractTypeCode PatrimonialContractCode según el tipo de contrato
B19: Plazo de ejecución | F19: 0..1 | G19: Obligatorio | H19: Obligatorio | I19: Obligatorio | J19: Obligatorio | K19: Obligatorio | L19: Obligatorio | M19: Obligatorio | N19: Obligatorio | O19: Obligatorio | P19: cac:ProcurementProject/cac:PlannedPeriod | Q19: =VLOOKUP(P19,'Anuncio Previo'!H:I,2,FALSE) -> xsd:complexType
C20: Fecha de Inicio | F20: 0..1 | G20: Fecha de Inicio y (Fecha final o Duración) | H20: Fecha de Inicio y (Fecha final o Duración) | I20: Fecha de Inicio y (Fecha final o Duración) | J20: Fecha de Inicio y (Fecha final o Duración) | K20: Fecha de Inicio y (Fecha final o Duración) | L20: Fecha de Inicio y (Fecha final o Duración) | M20: Fecha de Inicio y (Fecha final o Duración) | N20: Fecha de Inicio y (Fecha final o Duración) | O20: Fecha de Inicio y (Fecha final o Duración) | P20: cac:ProcurementProject/cac:PlannedPeriod/cbc:StartDate | Q20: =VLOOKUP(P20,'Anuncio Previo'!H:I,2,FALSE) -> xsd:date
C21: Fecha Final | F21: 0..1 | G21: Fecha de Inicio y Fecha final | H21: Fecha de Inicio y Fecha final | I21: Fecha de Inicio y Fecha final | J21: Fecha de Inicio y Fecha final | K21: Fecha de Inicio y Fecha final | L21: Fecha de Inicio y Fecha final | M21: Fecha de Inicio y Fecha final | N21: Fecha de Inicio y Fecha final | O21: Fecha de Inicio y Fecha final | P21: cac:ProcurementProject/cac:PlannedPeriod/cbc:EndDate | Q21: =VLOOKUP(P21,'Anuncio Previo'!H:I,2,FALSE) -> xsd:date
C22: Duración | F22: 0..1 | G22: Fecha de Inicio y Duración | H22: Fecha de Inicio y Duración | I22: Fecha de Inicio y Duración | J22: Fecha de Inicio y Duración | K22: Fecha de Inicio y Duración | L22: Fecha de Inicio y Duración | M22: Fecha de Inicio y Duración | N22: Fecha de Inicio y Duración | O22: Fecha de Inicio y Duración | P22: cac:ProcurementProject/cac:PlannedPeriod/cbc:DurationMeasure | Q22: =VLOOKUP(P22,'Anuncio Previo'!H:I,2,FALSE) -> xsd:decimal. Máximo 17 dígitos enteros. No se aceptan decimales
B23: Lugar de ejecución | F23: 0..1 | G23: Obligatorio | H23: Obligatorio | I23: Obligatorio | J23: Obligatorio | K23: Obligatorio | L23: Obligatorio | M23: Obligatorio | N23: Obligatorio | O23: Obligatorio | P23: cac:ProcurementProject/cac:RealizedLocation | Q23: =VLOOKUP(P23,'Anuncio Previo'!H:I,2,FALSE) -> xsd:complexType
C24: Código de Subentidad Nacional | F24: 0..1 | G24: Obligatorio si es España | H24: Obligatorio si es España | I24: Obligatorio si es España | J24: Obligatorio si es España | K24: Obligatorio si es España | L24: Obligatorio si es España | M24: Obligatorio si es España | N24: Obligatorio si es España | O24: Obligatorio si es España | P24: cac:ProcurementProject/cac:RealizedLocation/cbc:CountrySubentityCode | Q24: =VLOOKUP(P24,'Anuncio Previo'!H:I,2,FALSE) -> Valor en codelist NUTS
C25: Subentidad Territorial | F25: 0..1 | G25: Obligatorio si es España | H25: Obligatorio si es España | I25: Obligatorio si es España | J25: Obligatorio si es España | K25: Obligatorio si es España | L25: Obligatorio si es España | M25: Obligatorio si es España | N25: Obligatorio si es España | O25: Obligatorio si es España | P25: cac:ProcurementProject/cac:RealizedLocation/cbc:CountrySubentity | Q25: =VLOOKUP(P25,'Anuncio Previo'!H:I,2,FALSE) -> xsd:String. Máximo 50 caracteres - Texto de Código de Subentidad Nacional en gc NUTs
C26: País | F26: 0..1 | G26: Obligatorio si no es España y recomendado si lo es. | H26: Obligatorio si no es España y recomendado si lo es. | I26: Obligatorio si no es España y recomendado si lo es. | J26: Obligatorio si no es España y recomendado si lo es. | K26: Obligatorio si no es España y recomendado si lo es. | L26: Obligatorio si no es España y recomendado si lo es. | M26: Obligatorio si no es España y recomendado si lo es. | N26: Obligatorio si no es España y recomendado si lo es. | O26: Obligatorio si no es España y recomendado si lo es. | P26: cac:ProcurementProject/cac:RealizedLocation/cac:Address/cac:Country/cbc:IdentificationCode | Q26: =VLOOKUP(P26,'Anuncio Previo'!H:I,2,FALSE) -> Valor en codelist CountryIdentificationCode
C27: Calle | F27: 0..1 | G27: Opcional | H27: Opcional | I27: Opcional | J27: Opcional | K27: Opcional | L27: Opcional | M27: Opcional | N27: Opcional | O27: Opcional | P27: cac:ProcurementProject/cac:RealizedLocation/cac:Address/cbc:AddressLine | Q27: =VLOOKUP(P27,'Anuncio Previo'!H:I,2,FALSE) -> xsd:string. Máximo 220 caracteres
C28: Código Postal | F28: 0..1 | G28: Opcional | H28: Opcional | I28: Opcional | J28: Opcional | K28: Opcional | L28: Opcional | M28: Opcional | N28: Opcional | O28: Opcional | P28: cac:ProcurementProject/cac:RealizedLocation/cac:Address/cbc:PostalZone | Q28: =VLOOKUP(P28,'Anuncio Previo'!H:I,2,FALSE) -> xsd:string. Máximo 5 caracteres numéricos si el país es España, en otro caso 32 máximo caracteres.
C29: Población | F29: 0..1 | G29: Opcional | H29: Opcional | I29: Opcional | J29: Opcional | K29: Opcional | L29: Opcional | M29: Opcional | N29: Opcional | P29: cac:ProcurementProject/cac:RealizedLocation/cac:Address/cbc:CityName | Q29: =VLOOKUP(P29,'Anuncio Previo'!H:I,2,FALSE) -> xsd:string. Máximo 90 caracteres
B30: Extensión de Contrato | F30: 0..1 | G30: Opcional | H30: Opcional | I30: Opcional | J30: Opcional | K30: Opcional | L30: Opcional | M30: Opcional | N30: Opcional | O30: Opcional | P30: cac:ProcurementProject/cac:ContractExtension | Q30: =VLOOKUP(P30,'Anuncio Previo'!H:I,2,FALSE) -> xsd:complexType
C31: Opciones | F31: 0..1 | G31: Opcional | H31: Opcional | I31: Opcional | J31: Opcional | K31: Opcional | L31: Opcional | M31: Opcional | N31: Opcional | P31: cac:ProcurementProject/cac:ContractExtension/cbc:OptionsDescription | Q31: =VLOOKUP(P31,'Anuncio Previo'!H:I,2,FALSE) -> xsd:string. Máximo 256 caracteres
C32: Periodo de validez de las opciones | F32: 0..1 | G32: Opcional | H32: Opcional | I32: Opcional | J32: Opcional | K32: Opcional | L32: Opcional | M32: Opcional | N32: Opcional | P32: cac:ProcurementProject/cac:ContractExtension/cac:OptionValidityPeriod/cbc:Description | Q32: =VLOOKUP(P32,'Anuncio Previo'!H:I,2,FALSE) -> xsd:string. Máximo 256 caracteres
A33: Lotes | F33: 0..n | G33: Obligatorio si hay lotes | H33: Obligatorio si hay lotes | I33: Obligatorio si hay lotes | J33: Obligatorio si hay lotes | K33: Obligatorio si hay lotes | L33: Obligatorio si hay lotes | M33: Obligatorio si hay lotes | N33: Obligatorio si hay lotes | O33: Obligatorio si hay lotes | P33: cac:ProcurementProjectLot | Q33: =VLOOKUP(P33,'Anuncio Previo'!H:I,2,FALSE) -> xsd:complexType
B34: Número de lote | F34: 1 | G34: Obligatorio | H34: Obligatorio | I34: Obligatorio | J34: Obligatorio | K34: Obligatorio | L34: Obligatorio | M34: Obligatorio | N34: Obligatorio | O34: Obligatorio | P34: cac:ProcurementProjectLot/cbc:ID | Q34: =VLOOKUP(P34,'Anuncio Previo'!H:I,2,FALSE) -> Máximo 3 caracteres numéricos
B35: Objeto | F35: 1 | G35: Obligatorio | H35: Obligatorio | I35: Obligatorio | J35: Obligatorio | K35: Obligatorio | L35: Obligatorio | M35: Obligatorio | N35: Obligatorio | O35: Obligatorio | P35: cac:ProcurementProjectLot/cac:ProcurementProject/cbc:Name | Q35: =VLOOKUP(P35,'Anuncio Previo'!H:I,2,FALSE) -> xsd:string. Máximo 1700 caracteres
B36: Importe sin impuestos | F36: 1 | G36: Obligatorio | H36: Obligatorio | I36: Obligatorio | J36: Obligatorio | K36: Obligatorio | L36: Obligatorio | M36: Obligatorio | N36: Obligatorio | O36: Obligatorio | P36: cac:ProcurementProjectLot/cac:ProcurementProject/cac:BudgetAmount/cbc:TotalAmount | Q36: =VLOOKUP(P36,'Anuncio Previo'!H:I,2,FALSE) -> xsd:decimal. Máximo 10 enteros y 2 decimales
B37: Importe con impuestos | F37: 1 | G37: Obligatorio | H37: Obligatorio | I37: Obligatorio | J37: Obligatorio | K37: Obligatorio | L37: Obligatorio | M37: Obligatorio | N37: Obligatorio | O37: Obligatorio | P37: cac:ProcurementProjectLot/cac:ProcurementProject/cac:BudgetAmount/cbc:TaxExclusiveAmount | Q37: =VLOOKUP(P37,'Anuncio Previo'!H:I,2,FALSE) -> xsd:decimal. Máximo 10 enteros y 2 decimales
B38: Clasificación CPV | F38: 0..n | G38: Obligatorio | H38: Obligatorio | I38: Obligatorio | J38: Obligatorio | K38: Obligatorio | L38: Opcional | M38: Obligatorio | N38: Obligatorio | O38: Obligatorio | P38: cac:ProcurementProjectLot/cac:ProcurementProject/cac:RequiredCommodityClassification/cbc:ItemClassificationCode | Q38: =VLOOKUP(P38,'Anuncio Previo'!H:I,2,FALSE) -> Valor en codelist CPV
B39: Lugar de ejecución | F39: 0..1 | G39: Obligatorio | H39: Obligatorio | I39: Obligatorio | J39: Obligatorio | K39: Obligatorio | L39: Obligatorio | M39: Obligatorio | N39: Obligatorio | O39: Obligatorio | P39: cac:ProcurementProjectLot/cac:ProcurementProject/cac:RealizedLocation | Q39: xsd:complexType
C40: Código de Subentidad Nacional | F40: 0..1 | G40: Obligatorio si es España | H40: Obligatorio si es España | I40: Obligatorio si es España | J40: Obligatorio si es España | K40: Obligatorio si es España | L40: Obligatorio si es España | M40: Obligatorio si es España | N40: Obligatorio si es España | O40: Obligatorio si es España | P40: cac:ProcurementProjectLot/cac:ProcurementProject/cac:RealizedLocation/cbc:CountrySubentityCode | Q40: Valor en http://contrataciondelestado.es/codice/cl/2.0/NUTS-2009.gc
...

Sheet Pliegos
A1: DATO | F1: Cardinalidad | G1: Abierto | H1: Abierto Simplificado | I1: Restringido | J1: Negociado con publicidad Licitación con negociación | K1: Negociado Sin Publicidad | L1: Contrato Menor | M1: Diálogo Competitivo | N1: Normas Internas | O1: Basado en Acuerdo Marco | P1: Mapeo CODICE | Q1: Tipo de dato
A2: Identificador de Versión UBL | F2: 1 | G2: Obligatorio | H2: Obligatorio | I2: Obligatorio | J2: Obligatorio | K2: Obligatorio | L2: Obligatorio | M2: Obligatorio | N2: Obligatorio | O2: Obligatorio | P2: cbc:UBLVersionID | Q2: =VLOOKUP(P2,'Anuncio Previo'!H:I,2,FALSE) -> xsd:string. Valor "CODICE 2.05"
A3: Identificador de Personalización | F3: 1 | G3: Obligatorio | H3: Obligatorio | I3: Obligatorio | J3: Obligatorio | K3: Obligatorio | L3: Obligatorio | M3: Obligatorio | N3: Obligatorio | O3: Obligatorio | P3: cbc:CustomizationID | Q3: =VLOOKUP(P3,'Anuncio Previo'!H:I,2,FALSE) -> xsd:string. Valor "2.1"
A4: Identificador de Perfil | F4: 1 | G4: Obligatorio | H4: Obligatorio | I4: Obligatorio | J4: Obligatorio | K4: Obligatorio | L4: Obligatorio | M4: Obligatorio | N4: Obligatorio | O4: Obligatorio | P4: cbc:ProfileID | Q4: =VLOOKUP(P4,'Anuncio Previo'!H:I,2,FALSE) -> xsd:string. Valor "CiP 1.12"
A5: Identificador de copia | F5: 0..1 | G5: Opcional | H5: Opcional | I5: Opcional | J5: Opcional | K5: Opcional | L5: Opcional | M5: Opcional | N5: Opcional | O5: Opcional | P5: cbc:CopyIndicator | Q5: =VLOOKUP(P5,'Anuncio Previo'!H:I,2,FALSE) -> xsd:boolean
A6: Indicador de anuncio | F6: 1 | G6: Obligatorio | H6: Obligatorio | I6: Obligatorio | J6: Obligatorio | K6: Obligatorio | L6: Obligatorio | M6: Obligatorio | N6: Obligatorio | O6: Obligatorio | P6: cbc:ID | Q6: =VLOOKUP(P6,'Anuncio Previo'!H:I,2,FALSE) -> xsd:String(200)
A7: Identificador Universal Único | F7: 0..1 | G7: Opcional | H7: Opcional | I7: Opcional | J7: Opcional | K7: Opcional | L7: Opcional | M7: Opcional | N7: Opcional | O7: Opcional | P7: cbc:UUID | Q7: =VLOOKUP(P7,'Anuncio Previo'!H:I,2,FALSE) -> xsd:String(100)
A8: Número de Expediente | F8: 1 | G8: Obligatorio | H8: Obligatorio | I8: Obligatorio | J8: Obligatorio | K8: Obligatorio | L8: Obligatorio | M8: Obligatorio | N8: Obligatorio | O8: Obligatorio | P8: cbc:ContractFolderID | Q8: =VLOOKUP(P8,'Anuncio Previo'!H:I,2,FALSE) -> xsd:string(50)
A9: Fecha de Emisión | F9: 1 | G9: Obligatorio | H9: Obligatorio | I9: Obligatorio | J9: Obligatorio | K9: Obligatorio | L9: Obligatorio | M9: Obligatorio | N9: Obligatorio | O9: Obligatorio | P9: cbc:IssueDate | Q9: =VLOOKUP(P9,'Anuncio Previo'!H:I,2,FALSE) -> xsd:date
A10: Hora de Emisión | F10: 1 | G10: Obligatorio | H10: Obligatorio | I10: Obligatorio | J10: Obligatorio | K10: Obligatorio | L10: Obligatorio | M10: Obligatorio | N10: Obligatorio | O10: Obligatorio | P10: cbc:IssueTime | Q10: =VLOOKUP(P10,'Anuncio Previo'!H:I,2,FALSE) -> xsd:time
A11: PPT | F11: 1 | G11: Obligatorio | H11: Obligatorio | I11: Obligatorio | J11: Obligatorio | K11: Obligatorio | L11: Obligatorio | M11: Obligatorio | N11: Obligatorio | O11: Obligatorio | P11: cac:LegalDocumentReference | Q11: xsd:complexType
A12: PCAP | F12: 1 | G12: Obligatorio | H12: Obligatorio | I12: Obligatorio | J12: Obligatorio | K12: Obligatorio | L12: Obligatorio | M12: Obligatorio | N12: Obligatorio | O12: Obligatorio | P12: cac:TechnicalDocumentReference | Q12: xsd:complexType
A13: Anexo | F13: 0..n | G13: Opcional | H13: Opcional | I13: Opcional | J13: Opcional | K13: Opcional | L13: Opcional | M13: Opcional | N13: Opcional | O13: Opcional | P13: cac:AdditionalDocumentReference | Q13: xsd:complexType
A14: Proyecto de compra | F14: 1 | G14: Obligatorio | H14: Obligatorio | I14: Obligatorio | J14: Obligatorio | K14: Obligatorio | L14: Obligatorio | M14: Obligatorio | N14: Obligatorio | O14: Obligatorio | P14: cac:ProcurementProject | Q14: =VLOOKUP(P14,'Anuncio Previo'!H:I,2,FALSE) -> xsd:complexType
B15: Objeto del Contrato | F15: 1 | G15: Obligatorio | H15: Obligatorio | I15: Obligatorio | J15: Obligatorio | K15: Obligatorio | L15: Obligatorio | M15: Obligatorio | N15: Obligatorio | O15: Obligatorio | P15: cac:ProcurementProject/cbc:Name | Q15: =VLOOKUP(P15,'Anuncio Previo'!H:I,2,FALSE) -> xsd:string(1700), 400 si se envia a DOUE
B16: valor estimado del contrato | F16: 0..1 | G16: Obligatorio | H16: Obligatorio | I16: Obligatorio | J16: Obligatorio | K16: Obligatorio | L16: Opcional | M16: Obligatorio | N16: Obligatorio | O16: Obligatorio | P16: cac:ProcurementProject/cac:BudgetAmount/cbc:EstimatedOverallContractAmount | Q16: =VLOOKUP(P16,'Anuncio Previo'!H:I,2,FALSE) -> xsd:decimal. Máximo 10 enteros y 2 decimales
B17: Presupuesto base con impuestos | F17: 0..1 | G17: Obligatorio | H17: Obligatorio | I17: Obligatorio | J17: Obligatorio | K17: Obligatorio | L17: Obligatorio | M17: Obligatorio | N17: Obligatorio | O17: Obligatorio | P17: cac:ProcurementProject/cac:BudgetAmount/cbc:TotalAmount | Q17: =VLOOKUP(P17,'Anuncio Previo'!H:I,2,FALSE) -> xsd:decimal. Máximo 10 enteros y 2 decimales
B18: Presupuesto base sin impuestos | F18: 0..1 | G18: Obligatorio | H18: Obligatorio | I18: Obligatorio | J18: Obligatorio | K18: Obligatorio | L18: Obligatorio | M18: Obligatorio | N18: Obligatorio | O18: Obligatorio | P18: cac:ProcurementProject/cac:BudgetAmount/cbc:TaxExclusiveAmount | Q18: =VLOOKUP(P18,'Anuncio Previo'!H:I,2,FALSE) -> xsd:decimal. Máximo 10 enteros y 2 decimales
B19: Clasificación CPV | F19: 0..n | G19: Obligatorio | H19: Obligatorio | I19: Obligatorio | J19: Obligatorio | K19: Obligatorio | L19: Opcional | M19: Obligatorio | N19: Obligatorio | O19: Obligatorio | P19: cac:ProcurementProject/cac:RequiredCommodityClassification/cbc:ItemClassificationCode | Q19: =VLOOKUP(P19,'Anuncio Previo'!H:I,2,FALSE) -> Valor en codelist CPV CPV principal en funcion del tipo de contrato: - tipo de contrato “Suministros” códigos CPV que comienzan con 0 hasta los que empiezan por 44 más los que comienzan con 48. - tipo de contrato “Obras” se corresponde con los CPV que empiezan por 45. - tipo de contrato “Servicios” se corresponde con los CPV que empiezan por 49 hasta los que comienzan con 98.
B20: Tipo de Contrato | F20: 1 | G20: Obligatorio | H20: Obligatorio | I20: Obligatorio | J20: Obligatorio | K20: Obligatorio | L20: Obligatorio | M20: Obligatorio | N20: Obligatorio | O20: Obligatorio | P20: cac:ProcurementProject/cbc:TypeCode | Q20: =VLOOKUP(P20,'Anuncio Previo'!H:I,2,FALSE) -> Valor en codelist ContractCode
B21: Subtipo de contrato | F21: 0..1 | G21: Obligatorio dependiendo del tipo de contrato | H21: Obligatorio dependiendo del tipo de contrato | I21: Obligatorio dependiendo del tipo de contrato | J21: Obligatorio dependiendo del tipo de contrato | K21: Obligatorio dependiendo del tipo de contrato | L21: Obligatorio dependiendo del tipo de contrato | M21: Obligatorio dependiendo del tipo de contrato | N21: Obligatorio dependiendo del tipo de contrato | O21: Obligatorio dependiendo del tipo de contrato | P21: cac:ProcurementProject/cbc:SubTypeCode | Q21: =VLOOKUP(P21,'Anuncio Previo'!H:I,2,FALSE) -> Valor en codelist GoodsContractCode; ServiceContractCode; WorksContractCode; PublicPrivateCollaborationContractTypeCode PatrimonialContractCode según el tipo de contrato
B22: Plazo de ejecución | F22: 0..1 | G22: Obligatorio | H22: Obligatorio | I22: Obligatorio | J22: Obligatorio | K22: Obligatorio | L22: Obligatorio | M22: Obligatorio | N22: Obligatorio | O22: Obligatorio | P22: cac:ProcurementProject/cac:PlannedPeriod | Q22: =VLOOKUP(P22,'Anuncio Previo'!H:I,2,FALSE) -> xsd:complexType
C23: Fecha de Inicio | F23: 0..1 | G23: Fecha de Inicio y (Fecha final o Duración) | H23: Fecha de Inicio y (Fecha final o Duración) | I23: Fecha de Inicio y (Fecha final o Duración) | J23: Fecha de Inicio y (Fecha final o Duración) | K23: Fecha de Inicio y (Fecha final o Duración) | L23: Fecha de Inicio y (Fecha final o Duración) | M23: Fecha de Inicio y (Fecha final o Duración) | N23: Fecha de Inicio y (Fecha final o Duración) | O23: Fecha de Inicio y (Fecha final o Duración) | P23: cac:ProcurementProject/cac:PlannedPeriod/cbc:StartDate | Q23: =VLOOKUP(P23,'Anuncio Previo'!H:I,2,FALSE) -> xsd:date
C24: Fecha Final | F24: 0..1 | G24: Fecha de Inicio y Fecha final | H24: Fecha de Inicio y Fecha final | I24: Fecha de Inicio y Fecha final | J24: Fecha de Inicio y Fecha final | K24: Fecha de Inicio y Fecha final | L24: Fecha de Inicio y Fecha final | M24: Fecha de Inicio y Fecha final | N24: Fecha de Inicio y Fecha final | O24: Fecha de Inicio y Fecha final | P24: cac:ProcurementProject/cac:PlannedPeriod/cbc:EndDate | Q24: =VLOOKUP(P24,'Anuncio Previo'!H:I,2,FALSE) -> xsd:date
C25: Duración | F25: 0..1 | G25: Fecha de Inicio y Duración | H25: Fecha de Inicio y Duración | I25: Fecha de Inicio y Duración | J25: Fecha de Inicio y Duración | K25: Fecha de Inicio y Duración | L25: Fecha de Inicio y Duración | M25: Fecha de Inicio y Duración | N25: Fecha de Inicio y Duración | O25: Fecha de Inicio y Duración | P25: cac:ProcurementProject/cac:PlannedPeriod/cbc:DurationMeasure | Q25: =VLOOKUP(P25,'Anuncio Previo'!H:I,2,FALSE) -> xsd:decimal. Máximo 17 dígitos enteros. No se aceptan decimales
B26: Lugar de ejecución | F26: 0..1 | G26: Obligatorio | H26: Obligatorio | I26: Obligatorio | J26: Obligatorio | K26: Obligatorio | L26: Obligatorio | M26: Obligatorio | N26: Obligatorio | O26: Obligatorio | P26: cac:ProcurementProject/cac:RealizedLocation | Q26: =VLOOKUP(P26,'Anuncio Previo'!H:I,2,FALSE) -> xsd:complexType
C27: Código de Subentidad Nacional | F27: 0..1 | G27: Obligatorio si es España | H27: Obligatorio si es España | I27: Obligatorio si es España | J27: Obligatorio si es España | K27: Obligatorio si es España | L27: Obligatorio si es España | M27: Obligatorio si es España | N27: Obligatorio si es España | O27: Obligatorio si es España | P27: cac:ProcurementProject/cac:RealizedLocation/cbc:CountrySubentityCode | Q27: =VLOOKUP(P27,'Anuncio Previo'!H:I,2,FALSE) -> Valor en codelist NUTS
C28: Subentidad Territorial | F28: 0..1 | G28: Obligatorio si es España | H28: Obligatorio si es España | I28: Obligatorio si es España | J28: Obligatorio si es España | K28: Obligatorio si es España | L28: Obligatorio si es España | M28: Obligatorio si es España | N28: Obligatorio si es España | O28: Obligatorio si es España | P28: cac:ProcurementProject/cac:RealizedLocation/cbc:CountrySubentity | Q28: =VLOOKUP(P28,'Anuncio Previo'!H:I,2,FALSE) -> xsd:String. Máximo 50 caracteres - Texto de Código de Subentidad Nacional en gc NUTs
C29: País | F29: 0..1 | G29: Obligatorio si no es España y recomendado si lo es. | H29: Obligatorio si no es España y recomendado si lo es. | I29: Obligatorio si no es España y recomendado si lo es. | J29: Obligatorio si no es España y recomendado si lo es. | K29: Obligatorio si no es España y recomendado si lo es. | L29: Obligatorio si no es España y recomendado si lo es. | M29: Obligatorio si no es España y recomendado si lo es. | N29: Obligatorio si no es España y recomendado si lo es. | O29: Obligatorio si no es España y recomendado si lo es. | P29: cac:ProcurementProject/cac:RealizedLocation/cac:Address/cac:Country/cbc:IdentificationCode | Q29: =VLOOKUP(P29,'Anuncio Previo'!H:I,2,FALSE) -> Valor en codelist CountryIdentificationCode
C30: Calle | F30: 0..1 | G30: Opcional | H30: Opcional | I30: Opcional | J30: Opcional | K30: Opcional | L30: Opcional | M30: Opcional | N30: Opcional | O30: Opcional | P30: cac:ProcurementProject/cac:RealizedLocation/cac:Address/cbc:AddressLine | Q30: =VLOOKUP(P30,'Anuncio Previo'!H:I,2,FALSE) -> xsd:string. Máximo 220 caracteres
C31: Código Postal | F31: 0..1 | G31: Opcional | H31: Opcional | I31: Opcional | J31: Opcional | K31: Opcional | L31: Opcional | M31: Opcional | N31: Opcional | O31: Opcional | P31: cac:ProcurementProject/cac:RealizedLocation/cac:Address/cbc:PostalZone | Q31: =VLOOKUP(P31,'Anuncio Previo'!H:I,2,FALSE) -> xsd:string. Máximo 5 caracteres numéricos si el país es España, en otro caso 32 máximo caracteres.
C32: Población | F32: 0..1 | G32: Opcional | H32: Opcional | I32: Opcional | J32: Opcional | K32: Opcional | L32: Opcional | M32: Opcional | N32: Opcional | O32: Opcional | P32: cac:ProcurementProject/cac:RealizedLocation/cac:Address/cbc:CityName | Q32: =VLOOKUP(P32,'Anuncio Previo'!H:I,2,FALSE) -> xsd:string. Máximo 90 caracteres
B33: Extensión de Contrato | F33: 0..1 | G33: Opcional | H33: Opcional | I33: Opcional | J33: Opcional | K33: Opcional | L33: Opcional | M33: Opcional | N33: Opcional | O33: Opcional | P33: cac:ProcurementProject/cac:ContractExtension | Q33: =VLOOKUP(P33,'Anuncio Previo'!H:I,2,FALSE) -> xsd:complexType
C34: Opciones | F34: 0..1 | G34: Opcional | H34: Opcional | I34: Opcional | J34: Opcional | K34: Opcional | L34: Opcional | M34: Opcional | N34: Opcional | O34: Opcional | P34: cac:ProcurementProject/cac:ContractExtension/cbc:OptionsDescription | Q34: =VLOOKUP(P34,'Anuncio Previo'!H:I,2,FALSE) -> xsd:string. Máximo 256 caracteres
C35: Periodo de validez de las opciones | F35: 0..1 | G35: Opcional | H35: Opcional | I35: Opcional | J35: Opcional | K35: Opcional | L35: Opcional | M35: Opcional | N35: Opcional | O35: Opcional | P35: cac:ProcurementProject/cac:ContractExtension/cac:OptionValidityPeriod/cbc:Description | Q35: =VLOOKUP(P35,'Anuncio Previo'!H:I,2,FALSE) -> xsd:string. Máximo 256 caracteres
A36: Lotes | F36: 0..n | G36: Obligatorio si hay lotes | H36: Obligatorio si hay lotes | I36: Obligatorio si hay lotes | J36: Obligatorio si hay lotes | K36: Obligatorio si hay lotes | L36: Obligatorio si hay lotes | M36: Obligatorio si hay lotes | N36: Obligatorio si hay lotes | O36: Obligatorio si hay lotes | P36: cac:ProcurementProjectLot | Q36: =VLOOKUP(P36,'Anuncio Previo'!H:I,2,FALSE) -> xsd:complexType
B37: Número de lote | F37: 1 | G37: Obligatorio | H37: Obligatorio | I37: Obligatorio | J37: Obligatorio | K37: Obligatorio | L37: Obligatorio | M37: Obligatorio | N37: Obligatorio | O37: Obligatorio | P37: cac:ProcurementProjectLot/cbc:ID | Q37: =VLOOKUP(P37,'Anuncio Previo'!H:I,2,FALSE) -> Máximo 3 caracteres numéricos
B38: Objeto | F38: 1 | G38: Obligatorio | H38: Obligatorio | I38: Obligatorio | J38: Obligatorio | K38: Obligatorio | L38: Obligatorio | M38: Obligatorio | N38: Obligatorio | O38: Obligatorio | P38: cac:ProcurementProjectLot/cac:ProcurementProject/cbc:Name | Q38: =VLOOKUP(P38,'Anuncio Previo'!H:I,2,FALSE) -> xsd:string. Máximo 1700 caracteres
B39: Importe sin impuestos | F39: 1 | G39: Obligatorio | H39: Obligatorio | I39: Obligatorio | J39: Obligatorio | K39: Obligatorio | L39: Obligatorio | M39: Obligatorio | N39: Obligatorio | O39: Obligatorio | P39: cac:ProcurementProjectLot/cac:ProcurementProject/cac:BudgetAmount/cbc:TotalAmount | Q39: =VLOOKUP(P39,'Anuncio Previo'!H:I,2,FALSE) -> xsd:decimal. Máximo 10 enteros y 2 decimales
B40: Importe con impuestos | F40: 1 | G40: Obligatorio | H40: Obligatorio | I40: Obligatorio | J40: Obligatorio | K40: Obligatorio | L40: Obligatorio | M40: Obligatorio | N40: Obligatorio | O40: Obligatorio | P40: cac:ProcurementProjectLot/cac:ProcurementProject/cac:BudgetAmount/cbc:TaxExclusiveAmount | Q40: =VLOOKUP(P40,'Anuncio Previo'!H:I,2,FALSE) -> xsd:decimal. Máximo 10 enteros y 2 decimales
...

Sheet Anuncio Adjudicación
A1: DATO | F1: Cardinalidad | G1: Abierto | H1: Abierto Simplificado | I1: Restringido | J1: Negociado con publicidad Licitación con negociación | K1: Negociado Sin Publicidad | L1: Contrato Menor | M1: Diálogo Competitivo | N1: Normas Internas | O1: Basado en Acuerdo Marco | P1: Mapeo CODICE | Q1: Tipo de dato
A2: Identificador de Versión UBL | F2: 1 | G2: Obligatorio | H2: Obligatorio | I2: Obligatorio | J2: Obligatorio | K2: Obligatorio | L2: Obligatorio | M2: Obligatorio | N2: Obligatorio | O2: Obligatorio | P2: cbc:UBLVersionID | Q2: =VLOOKUP(P2,'Anuncio Previo'!H:I,2,FALSE) -> xsd:string. Valor "CODICE 2.05"
A3: Identificador de Personalización | F3: 1 | G3: Obligatorio | H3: Obligatorio | I3: Obligatorio | J3: Obligatorio | K3: Obligatorio | L3: Obligatorio | M3: Obligatorio | N3: Obligatorio | O3: Obligatorio | P3: cbc:CustomizationID | Q3: =VLOOKUP(P3,'Anuncio Previo'!H:I,2,FALSE) -> xsd:string. Valor "2.1"
A4: Identificador de Perfil | F4: 1 | G4: Obligatorio | H4: Obligatorio | I4: Obligatorio | J4: Obligatorio | K4: Obligatorio | L4: Obligatorio | M4: Obligatorio | N4: Obligatorio | O4: Obligatorio | P4: cbc:ProfileID | Q4: =VLOOKUP(P4,'Anuncio Previo'!H:I,2,FALSE) -> xsd:string. Valor "CiP 1.12"
A5: Identificador de copia | F5: 0..1 | G5: Opcional | H5: Opcional | I5: Opcional | J5: Opcional | K5: Opcional | L5: Opcional | M5: Opcional | N5: Opcional | O5: Opcional | P5: cbc:CopyIndicator | Q5: =VLOOKUP(P5,'Anuncio Previo'!H:I,2,FALSE) -> xsd:boolean
A6: Indicador de anuncio | F6: 1 | G6: Obligatorio | H6: Obligatorio | I6: Obligatorio | J6: Obligatorio | K6: Obligatorio | L6: Obligatorio | M6: Obligatorio | N6: Obligatorio | O6: Obligatorio | P6: cbc:ID | Q6: =VLOOKUP(P6,'Anuncio Previo'!H:I,2,FALSE) -> xsd:String(200)
A7: Identificador Universal Único | F7: 0..1 | G7: Opcional | H7: Opcional | I7: Opcional | J7: Opcional | K7: Opcional | L7: Opcional | M7: Opcional | N7: Opcional | O7: Opcional | P7: cbc:UUID | Q7: =VLOOKUP(P7,'Anuncio Previo'!H:I,2,FALSE) -> xsd:String(100)
A8: Número de Expediente | F8: 1 | G8: Obligatorio | H8: Obligatorio | I8: Obligatorio | J8: Obligatorio | K8: Obligatorio | L8: Obligatorio | M8: Obligatorio | N8: Obligatorio | O8: Obligatorio | P8: cbc:ContractFolderID | Q8: =VLOOKUP(P8,'Anuncio Previo'!H:I,2,FALSE) -> xsd:string(50)
A9: Fecha de Emisión | F9: 1 | G9: Obligatorio | H9: Obligatorio | I9: Obligatorio | J9: Obligatorio | K9: Obligatorio | L9: Obligatorio | M9: Obligatorio | N9: Obligatorio | O9: Obligatorio | P9: cbc:IssueDate | Q9: =VLOOKUP(P9,'Anuncio Previo'!H:I,2,FALSE) -> xsd:date
A10: Hora de Emisión | F10: 1 | G10: Obligatorio | H10: Obligatorio | I10: Obligatorio | J10: Obligatorio | K10: Obligatorio | L10: Obligatorio | M10: Obligatorio | N10: Obligatorio | O10: Obligatorio | P10: cbc:IssueTime | Q10: =VLOOKUP(P10,'Anuncio Previo'!H:I,2,FALSE) -> xsd:time
A11: Texto del acuerdo | F11: 0..1 | G11: Opcional | H11: Opcional | I11: Opcional | J11: Opcional | K11: Opcional | L11: Opcional | M11: Opcional | N11: Opcional | O11: Opcional | P11: cbc:Note. | Q11: xsd:string. Máximo 4500 caracteres
A12: Acta del acuerdo | F12: 0..1 | G12: Opcional | H12: Opcional | I12: Opcional | J12: Opcional | K12: Opcional | L12: Opcional | M12: Opcional | N12: Opcional | O12: Opcional | P12: cac:MinutesDocumentReference | Q12: xsd:complexType
A13: Proyecto de compra | F13: 1 | G13: Obligatorio | H13: Obligatorio | I13: Obligatorio | J13: Obligatorio | K13: Obligatorio | L13: Obligatorio | M13: Obligatorio | N13: Obligatorio | O13: Obligatorio | P13: cac:ProcurementProject | Q13: =VLOOKUP(P13,'Anuncio Previo'!H:I,2,FALSE) -> xsd:complexType
B14: Objeto del Contrato | F14: 1 | G14: Obligatorio | H14: Obligatorio | I14: Obligatorio | J14: Obligatorio | K14: Obligatorio | L14: Obligatorio | M14: Obligatorio | N14: Obligatorio | O14: Obligatorio | P14: cac:ProcurementProject/cbc:Name | Q14: =VLOOKUP(P14,'Anuncio Previo'!H:I,2,FALSE) -> xsd:string(1700), 400 si se envia a DOUE
B15: valor estimado del contrato | F15: 0..1 | G15: Obligatorio | H15: Obligatorio | I15: Obligatorio | J15: Obligatorio | K15: Obligatorio | L15: Opcional | M15: Obligatorio | N15: Obligatorio | O15: Obligatorio | P15: cac:ProcurementProject/cac:BudgetAmount/cbc:EstimatedOverallContractAmount | Q15: =VLOOKUP(P15,'Anuncio Previo'!H:I,2,FALSE) -> xsd:decimal. Máximo 10 enteros y 2 decimales
B16: Presupuesto base con impuestos | F16: 0..1 | G16: Obligatorio | H16: Obligatorio | I16: Obligatorio | J16: Obligatorio | K16: Obligatorio | L16: Obligatorio | M16: Obligatorio | N16: Obligatorio | O16: Obligatorio | P16: cac:ProcurementProject/cac:BudgetAmount/cbc:TotalAmount | Q16: =VLOOKUP(P16,'Anuncio Previo'!H:I,2,FALSE) -> xsd:decimal. Máximo 10 enteros y 2 decimales
B17: Presupuesto base sin impuestos | F17: 0..1 | G17: Obligatorio | H17: Obligatorio | I17: Obligatorio | J17: Obligatorio | K17: Obligatorio | L17: Obligatorio | M17: Obligatorio | N17: Obligatorio | O17: Obligatorio | P17: cac:ProcurementProject/cac:BudgetAmount/cbc:TaxExclusiveAmount | Q17: =VLOOKUP(P17,'Anuncio Previo'!H:I,2,FALSE) -> xsd:decimal. Máximo 10 enteros y 2 decimales
B18: Clasificación CPV | F18: 0..n | G18: Obligatorio | H18: Obligatorio | I18: Obligatorio | J18: Obligatorio | K18: Obligatorio | L18: Opcional | M18: Obligatorio | N18: Obligatorio | O18: Obligatorio | P18: cac:ProcurementProject/cac:RequiredCommodityClassification/cbc:ItemClassificationCode | Q18: =VLOOKUP(P18,'Anuncio Previo'!H:I,2,FALSE) -> Valor en codelist CPV CPV principal en funcion del tipo de contrato: - tipo de contrato “Suministros” códigos CPV que comienzan con 0 hasta los que empiezan por 44 más los que comienzan con 48. - tipo de contrato “Obras” se corresponde con los CPV que empiezan por 45. - tipo de contrato “Servicios” se corresponde con los CPV que empiezan por 49 hasta los que comienzan con 98.
B19: Tipo de Contrato | F19: 1 | G19: Obligatorio | H19: Obligatorio | I19: Obligatorio | J19: Obligatorio | K19: Obligatorio | L19: Obligatorio | M19: Obligatorio | N19: Obligatorio | O19: Obligatorio | P19: cac:ProcurementProject/cbc:TypeCode | Q19: =VLOOKUP(P19,'Anuncio Previo'!H:I,2,FALSE) -> Valor en codelist ContractCode
B20: Subtipo de contrato | F20: 0..1 | G20: Obligatorio dependiendo del tipo de contrato | H20: Obligatorio dependiendo del tipo de contrato | I20: Obligatorio dependiendo del tipo de contrato | J20: Obligatorio dependiendo del tipo de contrato | K20: Obligatorio dependiendo del tipo de contrato | L20: Obligatorio dependiendo del tipo de contrato | M20: Obligatorio dependiendo del tipo de contrato | N20: Obligatorio dependiendo del tipo de contrato | O20: Obligatorio dependiendo del tipo de contrato | P20: cac:ProcurementProject/cbc:SubTypeCode | Q20: =VLOOKUP(P20,'Anuncio Previo'!H:I,2,FALSE) -> Valor en codelist GoodsContractCode; ServiceContractCode; WorksContractCode; PublicPrivateCollaborationContractTypeCode PatrimonialContractCode según el tipo de contrato
B21: Plazo de ejecución | F21: 0..1 | G21: Obligatorio | H21: Obligatorio | I21: Obligatorio | J21: Obligatorio | K21: Obligatorio | L21: Obligatorio | M21: Obligatorio | N21: Obligatorio | O21: Obligatorio | P21: cac:ProcurementProject/cac:PlannedPeriod | Q21: =VLOOKUP(P21,'Anuncio Previo'!H:I,2,FALSE) -> xsd:complexType
C22: Fecha de Inicio | F22: 0..1 | G22: Fecha de Inicio y (Fecha final o Duración) | H22: Fecha de Inicio y (Fecha final o Duración) | I22: Fecha de Inicio y (Fecha final o Duración) | J22: Fecha de Inicio y (Fecha final o Duración) | K22: Fecha de Inicio y (Fecha final o Duración) | L22: Fecha de Inicio y (Fecha final o Duración) | M22: Fecha de Inicio y (Fecha final o Duración) | N22: Fecha de Inicio y (Fecha final o Duración) | O22: Fecha de Inicio y (Fecha final o Duración) | P22: cac:ProcurementProject/cac:PlannedPeriod/cbc:StartDate | Q22: =VLOOKUP(P22,'Anuncio Previo'!H:I,2,FALSE) -> xsd:date
C23: Fecha Final | F23: 0..1 | G23: Fecha de Inicio y Fecha final | H23: Fecha de Inicio y Fecha final | I23: Fecha de Inicio y Fecha final | J23: Fecha de Inicio y Fecha final | K23: Fecha de Inicio y Fecha final | L23: Fecha de Inicio y Fecha final | M23: Fecha de Inicio y Fecha final | N23: Fecha de Inicio y Fecha final | O23: Fecha de Inicio y Fecha final | P23: cac:ProcurementProject/cac:PlannedPeriod/cbc:EndDate | Q23: =VLOOKUP(P23,'Anuncio Previo'!H:I,2,FALSE) -> xsd:date
C24: Duración | F24: 0..1 | G24: Fecha de Inicio y Duración | H24: Fecha de Inicio y Duración | I24: Fecha de Inicio y Duración | J24: Fecha de Inicio y Duración | K24: Fecha de Inicio y Duración | L24: Fecha de Inicio y Duración | M24: Fecha de Inicio y Duración | N24: Fecha de Inicio y Duración | O24: Fecha de Inicio y Duración | P24: cac:ProcurementProject/cac:PlannedPeriod/cbc:DurationMeasure | Q24: =VLOOKUP(P24,'Anuncio Previo'!H:I,2,FALSE) -> xsd:decimal. Máximo 17 dígitos enteros. No se aceptan decimales
B25: Lugar de ejecución | F25: 0..1 | G25: Obligatorio | H25: Obligatorio | I25: Obligatorio | J25: Obligatorio | K25: Obligatorio | L25: Obligatorio | M25: Obligatorio | N25: Obligatorio | O25: Obligatorio | P25: cac:ProcurementProject/cac:RealizedLocation | Q25: =VLOOKUP(P25,'Anuncio Previo'!H:I,2,FALSE) -> xsd:complexType
C26: Código de Subentidad Nacional | F26: 0..1 | G26: Obligatorio si es España | H26: Obligatorio si es España | I26: Obligatorio si es España | J26: Obligatorio si es España | K26: Obligatorio si es España | L26: Obligatorio si es España | M26: Obligatorio si es España | N26: Obligatorio si es España | O26: Obligatorio si es España | P26: cac:ProcurementProject/cac:RealizedLocation/cbc:CountrySubentityCode | Q26: =VLOOKUP(P26,'Anuncio Previo'!H:I,2,FALSE) -> Valor en codelist NUTS
C27: Subentidad Territorial | F27: 0..1 | G27: Obligatorio si es España | H27: Obligatorio si es España | I27: Obligatorio si es España | J27: Obligatorio si es España | K27: Obligatorio si es España | L27: Obligatorio si es España | M27: Obligatorio si es España | N27: Obligatorio si es España | O27: Obligatorio si es España | P27: cac:ProcurementProject/cac:RealizedLocation/cbc:CountrySubentity | Q27: =VLOOKUP(P27,'Anuncio Previo'!H:I,2,FALSE) -> xsd:String. Máximo 50 caracteres - Texto de Código de Subentidad Nacional en gc NUTs
C28: País | F28: 0..1 | G28: Obligatorio si no es España y recomendado si lo es. | H28: Obligatorio si no es España y recomendado si lo es. | I28: Obligatorio si no es España y recomendado si lo es. | J28: Obligatorio si no es España y recomendado si lo es. | K28: Obligatorio si no es España y recomendado si lo es. | L28: Obligatorio si no es España y recomendado si lo es. | M28: Obligatorio si no es España y recomendado si lo es. | N28: Obligatorio si no es España y recomendado si lo es. | O28: Obligatorio si no es España y recomendado si lo es. | P28: cac:ProcurementProject/cac:RealizedLocation/cac:Address/cac:Country/cbc:IdentificationCode | Q28: =VLOOKUP(P28,'Anuncio Previo'!H:I,2,FALSE) -> Valor en codelist CountryIdentificationCode
C29: Calle | F29: 0..1 | G29: Opcional | H29: Opcional | I29: Opcional | J29: Opcional | K29: Opcional | L29: Opcional | M29: Opcional | N29: Opcional | O29: Opcional | P29: cac:ProcurementProject/cac:RealizedLocation/cac:Address/cbc:AddressLine | Q29: =VLOOKUP(P29,'Anuncio Previo'!H:I,2,FALSE) -> xsd:string. Máximo 220 caracteres
C30: Código Postal | F30: 0..1 | G30: Opcional | H30: Opcional | I30: Opcional | J30: Opcional | K30: Opcional | L30: Opcional | M30: Opcional | N30: Opcional | O30: Opcional | P30: cac:ProcurementProject/cac:RealizedLocation/cac:Address/cbc:PostalZone | Q30: =VLOOKUP(P30,'Anuncio Previo'!H:I,2,FALSE) -> xsd:string. Máximo 5 caracteres numéricos si el país es España, en otro caso 32 máximo caracteres.
C31: Población | F31: 0..1 | G31: Opcional | H31: Opcional | I31: Opcional | J31: Opcional | K31: Opcional | L31: Opcional | M31: Opcional | N31: Opcional | P31: cac:ProcurementProject/cac:RealizedLocation/cac:Address/cbc:CityName | Q31: =VLOOKUP(P31,'Anuncio Previo'!H:I,2,FALSE) -> xsd:string. Máximo 90 caracteres
B32: Extensión de Contrato | F32: 0..1 | G32: Opcional | H32: Opcional | I32: Opcional | J32: Opcional | K32: Opcional | L32: Opcional | M32: Opcional | N32: Opcional | O32: Opcional | P32: cac:ProcurementProject/cac:ContractExtension | Q32: =VLOOKUP(P32,'Anuncio Previo'!H:I,2,FALSE) -> xsd:complexType
C33: Opciones | F33: 0..1 | G33: Opcional | H33: Opcional | I33: Opcional | J33: Opcional | K33: Opcional | L33: Opcional | M33: Opcional | N33: Opcional | P33: cac:ProcurementProject/cac:ContractExtension/cbc:OptionsDescription | Q33: =VLOOKUP(P33,'Anuncio Previo'!H:I,2,FALSE) -> xsd:string. Máximo 256 caracteres
C34: Periodo de validez de las opciones | F34: 0..1 | G34: Opcional | H34: Opcional | I34: Opcional | J34: Opcional | K34: Opcional | L34: Opcional | M34: Opcional | N34: Opcional | P34: cac:ProcurementProject/cac:ContractExtension/cac:OptionValidityPeriod/cbc:Description | Q34: =VLOOKUP(P34,'Anuncio Previo'!H:I,2,FALSE) -> xsd:string. Máximo 256 caracteres
A35: Lotes | F35: 0..n | G35: Obligatorio si hay lotes | H35: Obligatorio si hay lotes | I35: Obligatorio si hay lotes | J35: Obligatorio si hay lotes | K35: Obligatorio si hay lotes | L35: Obligatorio si hay lotes | M35: Obligatorio si hay lotes | N35: Obligatorio si hay lotes | O35: Obligatorio si hay lotes | P35: cac:ProcurementProjectLot | Q35: =VLOOKUP(P35,'Anuncio Previo'!H:I,2,FALSE) -> xsd:complexType
B36: Número de lote | F36: 1 | G36: Obligatorio | H36: Obligatorio | I36: Obligatorio | J36: Obligatorio | K36: Obligatorio | L36: Obligatorio | M36: Obligatorio | N36: Obligatorio | O36: Obligatorio | P36: cac:ProcurementProjectLot/cbc:ID | Q36: =VLOOKUP(P36,'Anuncio Previo'!H:I,2,FALSE) -> Máximo 3 caracteres numéricos
B37: Objeto | F37: 1 | G37: Obligatorio | H37: Obligatorio | I37: Obligatorio | J37: Obligatorio | K37: Obligatorio | L37: Obligatorio | M37: Obligatorio | N37: Obligatorio | O37: Obligatorio | P37: cac:ProcurementProjectLot/cac:ProcurementProject/cbc:Name | Q37: =VLOOKUP(P37,'Anuncio Previo'!H:I,2,FALSE) -> xsd:string. Máximo 1700 caracteres
B38: Importe sin impuestos | F38: 1 | G38: Obligatorio | H38: Obligatorio | I38: Obligatorio | J38: Obligatorio | K38: Obligatorio | L38: Obligatorio | M38: Obligatorio | N38: Obligatorio | O38: Obligatorio | P38: cac:ProcurementProjectLot/cac:ProcurementProject/cac:BudgetAmount/cbc:TotalAmount | Q38: =VLOOKUP(P38,'Anuncio Previo'!H:I,2,FALSE) -> xsd:decimal. Máximo 10 enteros y 2 decimales
B39: Importe con impuestos | F39: 1 | G39: Obligatorio | H39: Obligatorio | I39: Obligatorio | J39: Obligatorio | K39: Obligatorio | L39: Obligatorio | M39: Obligatorio | N39: Obligatorio | O39: Obligatorio | P39: cac:ProcurementProjectLot/cac:ProcurementProject/cac:BudgetAmount/cbc:TaxExclusiveAmount | Q39: =VLOOKUP(P39,'Anuncio Previo'!H:I,2,FALSE) -> xsd:decimal. Máximo 10 enteros y 2 decimales
B40: Clasificación CPV | F40: 0..n | G40: Obligatorio | H40: Obligatorio | I40: Obligatorio | J40: Obligatorio | K40: Obligatorio | L40: Opcional | M40: Obligatorio | N40: Obligatorio | O40: Obligatorio | P40: cac:ProcurementProjectLot/cac:ProcurementProject/cac:RequiredCommodityClassification/cbc:ItemClassificationCode | Q40: =VLOOKUP(P40,'Anuncio Previo'!H:I,2,FALSE) -> Valor en codelist CPV
...

Sheet Anuncio Formalización
A1: DATO | F1: Cardinalidad | G1: Abierto | H1: Abierto Simplificado | I1: Restringido | J1: Negociado con publicidad Licitación con negociación | K1: Negociado Sin Publicidad | L1: Contrato Menor | M1: Diálogo Competitivo | N1: Normas Internas | O1: Basado en Acuerdo Marco | P1: Mapeo CODICE | Q1: Tipo de dato
A2: Identificador de Versión UBL | F2: 1 | G2: Obligatorio | H2: Obligatorio | I2: Obligatorio | J2: Obligatorio | K2: Obligatorio | L2: Obligatorio | M2: Obligatorio | N2: Obligatorio | O2: Obligatorio | P2: cbc:UBLVersionID | Q2: =VLOOKUP(P2,'Anuncio Previo'!H:I,2,FALSE) -> xsd:string. Valor "CODICE 2.05"
A3: Identificador de Personalización | F3: 1 | G3: Obligatorio | H3: Obligatorio | I3: Obligatorio | J3: Obligatorio | K3: Obligatorio | L3: Obligatorio | M3: Obligatorio | N3: Obligatorio | O3: Obligatorio | P3: cbc:CustomizationID | Q3: =VLOOKUP(P3,'Anuncio Previo'!H:I,2,FALSE) -> xsd:string. Valor "2.1"
A4: Identificador de Perfil | F4: 1 | G4: Obligatorio | H4: Obligatorio | I4: Obligatorio | J4: Obligatorio | K4: Obligatorio | L4: Obligatorio | M4: Obligatorio | N4: Obligatorio | O4: Obligatorio | P4: cbc:ProfileID | Q4: =VLOOKUP(P4,'Anuncio Previo'!H:I,2,FALSE) -> xsd:string. Valor "CiP 1.12"
A5: Identificador de copia | F5: 0..1 | G5: Opcional | H5: Opcional | I5: Opcional | J5: Opcional | K5: Opcional | L5: Opcional | M5: Opcional | N5: Opcional | O5: Opcional | P5: cbc:CopyIndicator | Q5: =VLOOKUP(P5,'Anuncio Previo'!H:I,2,FALSE) -> xsd:boolean
